BEGIN:VCALENDAR
VERSION:2.0
PRODID:-//wp-events-plugin.com//7.2.3.1//EN
TZID:America/Denver
X-WR-TIMEZONE:America/Denver
BEGIN:VEVENT
UID:1190@krystal93.com
DTSTART;TZID=America/Denver;VALUE=DATE:20241010
DTEND;TZID=America/Denver;VALUE=DATE:20241014
DTSTAMP:20240929T221301Z
URL:https://krystal93.com/events/salida-artwalk/
SUMMARY:Salida ArtWalk
DESCRIPTION:Follow your hearts to Salida and join us in Colorado’s larges
 t National historic district and one of the state’s first Creative Distr
 icts for an art filled weekend at the 31st annual Salida ArtWalk October 1
 0-13 featuring numerous activities for art enthusiasts and collectors! The
  arts and artists have long been an integral part of Salida\, and the down
 town district features a highly concentrated number of artist-owned and op
 erated galleries featuring regional\, national\, and award-winning fine ar
 tists showcasing paintings\, photography\, ceramics\, jewelry\, sculpture\
 , fiber art\, metal and glass work\, mosaics\, printmaking\, salvaged art 
 and more! Many artists can be found in various pop-up venues throughout do
 wntown as well as literary artists\, creative industries\, live music\, an
 d a museum of art and culture. In addition to being a beautiful Fall weeke
 nd to visit\, Salida ArtWalk presents gallery receptions on Friday night a
 nd curated exhibits\, performances\, and specialty menu items at the many 
 restaurants\, distilleries\, and breweries throughout the weekend. Join us
  for the Art on the Rocks Sip &amp\; Paint Kick Off event presented by Hig
 h Country Bank\; the Invitational Ceramics Show at the Maverick Potter fea
 turing internationally acclaimed ceramic artists\; the 60’ long Salida C
 ommunity Mosaic public art project\; the exciting “Mini Masterpieces” 
 exhibit and auction featuring over 70 miniature pieces by local artists pr
 esented by Salida Council for the Arts\; as well as artist demos\, pop-up 
 venues\, public art tours\, and hands on art activities for all ages. Then
  on Saturday evening October 12\, join us as Salida’s performing artists
  throw a giant ArtWalk pARTy featuring a Parade of the Arts with giant pup
 pets\, strolling musicians\, street performers\, live music\, and dancing 
 in Riverside Park- a true celebration of the arts in Salida! Stay for the 
 patron brunch Sunday morning at the Salida Steam Plant and revisit your fa
 vorite galleries and pop-up venues and find that perfect piece of art to t
 ake home from Salida ArtWalk 2024. See www.SalidaArtWalk.org or follow Sal
 ida Art Walk on social media for more information.
LOCATION:Downtown Salida\, 220 W Sackett\, Salida\, CO\, 81201\, United Sta
 tes
X-APPLE-STRUCTURED-LOCATION;VALUE=URI;X-ADDRESS=220 W Sackett\, Salida\, CO
 \, 81201\, United States;X-APPLE-RADIUS=100;X-TITLE=Downtown Salida:geo:0,
 0
END:VEVENT
BEGIN:VTIMEZONE
TZID:America/Denver
X-LIC-LOCATION:America/Denver
BEGIN:DAYLIGHT
DTSTART:20240310T030000
TZOFFSETFROM:-0700
TZOFFSETTO:-0600
TZNAME:MDT
END:DAYLIGHT
END:VTIMEZONE
END:VCALENDAR