BEGIN:VCALENDAR
VERSION:2.0
PRODID:-//wp-events-plugin.com//7.2.3.1//EN
TZID:America/Denver
X-WR-TIMEZONE:America/Denver
BEGIN:VEVENT
UID:1198@krystal93.com
DTSTART;TZID=America/Denver:20241029T180000
DTEND;TZID=America/Denver:20241029T193000
DTSTAMP:20240930T212341Z
URL:https://krystal93.com/events/salsa-dance-class-2/
SUMMARY:Salsa Dance Class
DESCRIPTION:TUESDAY\, OCTOBER 29\n6-7:30 pm\nSalsa Dance Class\nSILVERTHORN
 E\nLet’s celebrate life by dancing salsa. You\ndon’t need to be a prof
 essional\, just have fun\nand let your body express itself with music.\nEv
 ent Facilitated in English and Spanish.\nGo to buildinghopesummit.org for 
 more information.
CATEGORIES:Building Hope Summit County
END:VEVENT
BEGIN:VTIMEZONE
TZID:America/Denver
X-LIC-LOCATION:America/Denver
BEGIN:DAYLIGHT
DTSTART:20240310T030000
TZOFFSETFROM:-0700
TZOFFSETTO:-0600
TZNAME:MDT
END:DAYLIGHT
END:VTIMEZONE
END:VCALENDAR