BEGIN:VCALENDAR
VERSION:2.0
PRODID:-//wp-events-plugin.com//7.2.3.1//EN
TZID:America/Denver
X-WR-TIMEZONE:America/Denver
BEGIN:VEVENT
UID:442@krystal93.com
DTSTART;TZID=America/Denver:20230228T180000
DTEND;TZID=America/Denver:20230228T193000
DTSTAMP:20230131T192632Z
URL:https://krystal93.com/events/salsa-dance-class/
SUMMARY:Salsa Dance Class
DESCRIPTION:SALSA DANCE CLASS\nLet’s celebrate life through dancing salsa
 ! No experience necessary\; just have fun and let your body express itself
  with music. Ages 16+. Facilitated in Spanish. \n\nFeb 28 Time: 6-7:30pm L
 ocation: Silverthorne  \n\nGo to https://buildinghopesummit.org/ for more
  info.\n\n&nbsp\;
CATEGORIES:Building Hope Summit County
END:VEVENT
BEGIN:VTIMEZONE
TZID:America/Denver
X-LIC-LOCATION:America/Denver
BEGIN:STANDARD
DTSTART:20221106T010000
TZOFFSETFROM:-0600
TZOFFSETTO:-0700
TZNAME:MST
END:STANDARD
END:VTIMEZONE
END:VCALENDAR