BEGIN:VCALENDAR
VERSION:2.0
PRODID:-//wp-events-plugin.com//7.2.3.1//EN
TZID:America/Denver
X-WR-TIMEZONE:America/Denver
BEGIN:VEVENT
UID:705@krystal93.com
DTSTART;TZID=America/Denver:20230926T180000
DTEND;TZID=America/Denver:20230926T193000
DTSTAMP:20230831T040322Z
URL:https://krystal93.com/events/salsa-dancing/
SUMMARY:Salsa Dancing
DESCRIPTION:\n\n\n\n\n\n\n\n\n\nSALSA DANCING LESSONS\n\nLet’s celebrate 
 life by learning to dance salsa. No experience necessary\; just have fun a
 nd express yourself through music. Participation limited to ages 16+. Faci
 litated in Spanish.\n\nTime: 6-7:30pm Location:\n\nFrisco\n\n\n\n\n\n\n\n\
 n\n\nGo to Building Hope Summit County for more information.  
CATEGORIES:Building Hope Summit County
END:VEVENT
BEGIN:VTIMEZONE
TZID:America/Denver
X-LIC-LOCATION:America/Denver
BEGIN:DAYLIGHT
DTSTART:20230312T030000
TZOFFSETFROM:-0700
TZOFFSETTO:-0600
TZNAME:MDT
END:DAYLIGHT
END:VTIMEZONE
END:VCALENDAR