BEGIN:VCALENDAR
VERSION:2.0
PRODID:-//wp-events-plugin.com//7.2.3.1//EN
TZID:America/Denver
X-WR-TIMEZONE:America/Denver
BEGIN:VEVENT
UID:1133@krystal93.com
DTSTART;TZID=America/Denver:20240810T160000
DTEND;TZID=America/Denver:20240810T190000
DTSTAMP:20240805T173446Z
URL:https://krystal93.com/events/science-adventure-fiesta/
SUMMARY:Science\, Adventure\, FIESTA!
DESCRIPTION:Keystone Science School invites you to their annual fundraiser 
 and summer celebration\, Science\, Adventure\, FIESTA! This Saturday from 
 4pm-7pm\, live music with Moonstone Quill and great food from Dos Locos. I
 t’s family friendly\, with kids activities including pinatas and a scave
 nger hunt. Proceeds support the non-profit mission of the Keystone Science
  School. Join the fun at the Keystone Science School campus on Saturday Au
 gust 10\, Buy tickets at keystonescienceschool.org\, with options for VIP 
 tables\, kids 5 and under are free!
END:VEVENT
BEGIN:VTIMEZONE
TZID:America/Denver
X-LIC-LOCATION:America/Denver
BEGIN:DAYLIGHT
DTSTART:20240310T030000
TZOFFSETFROM:-0700
TZOFFSETTO:-0600
TZNAME:MDT
END:DAYLIGHT
END:VTIMEZONE
END:VCALENDAR