BEGIN:VCALENDAR
VERSION:2.0
PRODID:-//wp-events-plugin.com//7.2.3.1//EN
TZID:America/Denver
X-WR-TIMEZONE:America/Denver
BEGIN:VEVENT
UID:1778@krystal93.com
DTSTART;TZID=America/Denver:20260110T100000
DTEND;TZID=America/Denver:20260110T120000
DTSTAMP:20260102T024409Z
URL:https://krystal93.com/events/scrap-fabric-mushrooms/
SUMMARY:Scrap Fabric Mushrooms
DESCRIPTION:SATURDAY\, JANUARY 10\, 2026\nScrap Fabric Mushrooms | Ages 12-
 18\n10:00 am - 12:00 pm / Silverthorne\nCome sew\, glue &amp\; have fun ma
 king your own\nmini mushroom keepsake\, a small reminder of the\ninterconn
 ectedness of everything.\nThis event is intended for Summit County residen
 ts only. Ages 12-18.\nEvent Facilitated in English and Spanish.\n Go to Bu
 ildingHopeSummit.org to sign up.
CATEGORIES:Building Hope Summit County
END:VEVENT
BEGIN:VTIMEZONE
TZID:America/Denver
X-LIC-LOCATION:America/Denver
BEGIN:STANDARD
DTSTART:20251102T010000
TZOFFSETFROM:-0600
TZOFFSETTO:-0700
TZNAME:MST
END:STANDARD
END:VTIMEZONE
END:VCALENDAR