BEGIN:VCALENDAR
VERSION:2.0
PRODID:-//wp-events-plugin.com//7.2.3.1//EN
TZID:America/Denver
X-WR-TIMEZONE:America/Denver
BEGIN:VEVENT
UID:1192@krystal93.com
DTSTART;TZID=America/Denver:20241003T180000
DTEND;TZID=America/Denver:20241003T200000
DTSTAMP:20240930T211017Z
URL:https://krystal93.com/events/screening-discussion-my-sister-liv/
SUMMARY:Screening & Discussion - "My Sister Liv"
DESCRIPTION:Building Hope Summit County invites you to Thursday's screening
  and discussion of the movie\, “My Sister Liv” in Frisco at the Summit
  County Community and Senior Center. It deals with the loss of a loved one
  and a family’s recovery in the aftermath. You can also learn from exper
 ts who give real solutions and hope. The film has been approved by mental 
 health experts for kids 14 and older. Go to buildinghopesummit.org for mor
 e info. 
CATEGORIES:Building Hope Summit County
END:VEVENT
BEGIN:VTIMEZONE
TZID:America/Denver
X-LIC-LOCATION:America/Denver
BEGIN:DAYLIGHT
DTSTART:20240310T030000
TZOFFSETFROM:-0700
TZOFFSETTO:-0600
TZNAME:MDT
END:DAYLIGHT
END:VTIMEZONE
END:VCALENDAR