BEGIN:VCALENDAR
VERSION:2.0
PRODID:-//wp-events-plugin.com//7.2.3.1//EN
TZID:America/Denver
X-WR-TIMEZONE:America/Denver
BEGIN:VEVENT
UID:1473@krystal93.com
DTSTART;TZID=America/Denver:20250510T000000
DTEND;TZID=America/Denver:20250510T000000
DTSTAMP:20250501T231402Z
URL:https://krystal93.com/events/season-meltdown-live-dj-performance-blunt
 s-blondes/
SUMMARY:Season Meltdown - LIVE DJ PERFORMANCE "BLUNTS &amp\; BLONDES"
DESCRIPTION:TumbleWeed &amp\; KEEF Brands\n\npresents\n\n2025 SEASON MELTDO
 WN\n\nLIVE MUSIC BY\nBLUNTS &amp\; BLONDES\n\nMUSIC | ART | CANNABIS | FAS
 HION | CULTURE\nEVENT PARTNERS\n\nNOOT // SAUCE // ROOSTER MAGAZINE // AIR
 O // SOCIAL CANNABIS // DRO // BUBBLE MAN // WYLDFIRE\n\nWrap up the seaso
 n with good people\, good music\, and good vibes as KEEF proudly presents 
 the 2025 Season Meltdown Party\, taking place Saturday\, May 10th\, 2025\,
  at 10 Mile Music Hall in Frisco\, Colorado. This laid-back celebration is
  all about closing out winter and kicking off the warm months ahead — mo
 untain-style.\n\nThis special evening brings the community together for a 
 night of music\, culture\, and connection\, headlined by a live set from n
 ationally known bass music artist BLUNTS &amp\; BLONDES\, with support fro
 m a lineup of local DJs and producers that Summit County knows and loves. 
 Attendees can expect a night of dance music\, everything from high-energy 
 house to deep\, hip-hop\, heavy bass\, and everything in between.\n\n• F
 REE CANNABIS INDUSTRY MERCH Gift Bags for all guests at let-out ($30 value
 ).\n\nDOORS OPEN AT 5 PM - JOIN US FOR A ROOFTOP INDUSTRY HAPPY HOUR!\n\n
 • Live Music All Night!\n\nSHOKU\nPRIES\nBKELLZ\n\n• Full Bar and drin
 k specials.\n\n• Free Merch &amp\; Product Swag throughout the night.\n\
 n• Live Local Art\, Clothing Giveaways\, and Surprise Guests.\n\n- $20 G
 ENERAL ADMISSION.\n\n- $50 VIP - Balcony Viewing - 2 FREE Drinks - Exclusi
 ve Gift Bag - VERY LIMITED!\n\nPlease note: This is a 21+ event. Valid ID 
 required. Cannabis consumption is not permitted onsite.
CATEGORIES:Concerts
LOCATION:10 Mile Music Hall\, 710 Main St\, Frisco\, CO 80443\, Frisco\, co
 \, 80443\, United States
X-APPLE-STRUCTURED-LOCATION;VALUE=URI;X-ADDRESS=710 Main St\, Frisco\, CO 8
 0443\, Frisco\, co\, 80443\, United States;X-APPLE-RADIUS=100;X-TITLE=10 M
 ile Music Hall:geo:0,0
END:VEVENT
BEGIN:VTIMEZONE
TZID:America/Denver
X-LIC-LOCATION:America/Denver
BEGIN:DAYLIGHT
DTSTART:20250309T030000
TZOFFSETFROM:-0700
TZOFFSETTO:-0600
TZNAME:MDT
END:DAYLIGHT
END:VTIMEZONE
END:VCALENDAR