BEGIN:VCALENDAR
VERSION:2.0
PRODID:-//wp-events-plugin.com//7.2.3.1//EN
TZID:America/Denver
X-WR-TIMEZONE:America/Denver
BEGIN:VEVENT
UID:1093@krystal93.com
DTSTART;TZID=America/Denver:20240815T090000
DTEND;TZID=America/Denver:20240815T130000
DTSTAMP:20240722T161222Z
URL:https://krystal93.com/events/shrine-ridge-trail-mainenance/
SUMMARY:Shrine Ridge Trail Mainenance
DESCRIPTION:Come out and do some trail maintenance on the Shrine Ridge trai
 l at Vail Pass! Enjoy the views while we work to get this trail back into 
 shape! Trail work will include tread maintenance and some structure buildi
 ng. The work will be moderate. Expect to hike 2-4 miles. We are partnering
  with Pinnacle Mountain Homes on this project.\n\nMeeting Location: Shrine
  Ridge parking area (39.546176\, -106.241690)\n\nDriving Directions: From 
 Silverthorne take I-70 West towards Vail Pass. Take exit 190 to Vail Pass\
 , cross the overpass and continue straight onto Shrine Pass Road. Continue
  straight for 2.5 miles. The parking area will be on your left at the bath
 rooms.
LOCATION:Shrine Ridge Trailhead\, 39.546176\, -106.241690\, Vail Pass\, Uni
 ted States
X-APPLE-STRUCTURED-LOCATION;VALUE=URI;X-ADDRESS=39.546176\, -106.241690\, V
 ail Pass\, United States;X-APPLE-RADIUS=100;X-TITLE=Shrine Ridge Trailhead
 :geo:0,0
END:VEVENT
BEGIN:VTIMEZONE
TZID:America/Denver
X-LIC-LOCATION:America/Denver
BEGIN:DAYLIGHT
DTSTART:20240310T030000
TZOFFSETFROM:-0700
TZOFFSETTO:-0600
TZNAME:MDT
END:DAYLIGHT
END:VTIMEZONE
END:VCALENDAR