BEGIN:VCALENDAR
VERSION:2.0
PRODID:-//wp-events-plugin.com//7.2.3.1//EN
TZID:America/Denver
X-WR-TIMEZONE:America/Denver
BEGIN:VEVENT
UID:1559@krystal93.com
DTSTART;TZID=America/Denver:20250704T180000
DTEND;TZID=America/Denver:20250704T210000
DTSTAMP:20250702T004233Z
URL:https://krystal93.com/events/silverthorne-first-friday-12/
SUMMARY:Silverthorne First Friday
DESCRIPTION:Celebrate the 4th of July at Silverthorne’s First Friday. Enj
 oy two free concerts at Rainbow Park... From 10am to noon enjoy the Nation
 al Repertory Orchestra and then hear Robert Randolph from 6 to 9 pm. Visit
  Silverthorne.org for mroe information on Silverthorne’s First Friday Fo
 urth of July Extravaganza. 
END:VEVENT
BEGIN:VTIMEZONE
TZID:America/Denver
X-LIC-LOCATION:America/Denver
BEGIN:DAYLIGHT
DTSTART:20250309T030000
TZOFFSETFROM:-0700
TZOFFSETTO:-0600
TZNAME:MDT
END:DAYLIGHT
END:VTIMEZONE
END:VCALENDAR