BEGIN:VCALENDAR
VERSION:2.0
PRODID:-//wp-events-plugin.com//7.2.3.1//EN
TZID:America/Denver
X-WR-TIMEZONE:America/Denver
BEGIN:VEVENT
UID:422@krystal93.com
DTSTART;TZID=America/Denver:20230203T173000
DTEND;TZID=America/Denver:20230203T203000
DTSTAMP:20230127T031821Z
URL:https://krystal93.com/events/silverthorne-first-friday-2/
SUMMARY:Silverthorne First Friday
DESCRIPTION:Silverthorne First Fridays \n\nWHEN: Friday\, February 3 from 
 5:30pm to 8:30pm \n\nWHERE: Silverthorne Pavilion (And Red Buffalo Coffee
  and Tea) \n\nDetails: Come celebrate our diverse cultures in Summit Coun
 ty including Mexico’s Noche De Candela and the Chinese Lunar New Year. I
 t’ll be a fun and educational event for all ages. Again\, this is at the
  Silverthorne Pavilion and Red Buffalo Coffee and Tea. For more info go to
  Silverthorne-dot-org.
END:VEVENT
BEGIN:VTIMEZONE
TZID:America/Denver
X-LIC-LOCATION:America/Denver
BEGIN:STANDARD
DTSTART:20221106T010000
TZOFFSETFROM:-0600
TZOFFSETTO:-0700
TZNAME:MST
END:STANDARD
END:VTIMEZONE
END:VCALENDAR