BEGIN:VCALENDAR
VERSION:2.0
PRODID:-//wp-events-plugin.com//7.2.3.1//EN
TZID:America/Denver
X-WR-TIMEZONE:America/Denver
BEGIN:VEVENT
UID:526@krystal93.com
DTSTART;TZID=America/Denver:20230407T173000
DTEND;TZID=America/Denver:20230407T203000
DTSTAMP:20230330T154948Z
URL:https://krystal93.com/events/silverthorne-first-friday-3/
SUMMARY:Silverthorne First Friday
DESCRIPTION:Silverthorne’s First Friday \n\nWhat: A special 80s Themed A
 pril First Friday Rollerama Event \n\nWhere: Silverthorne Recreation Cent
 er  \n\nWhen: Friday\, April 7 from 5:30-8:30pm \n\nDetails: enjoy live
  music\, and a neon decorated roller skating rink complete with free skate
  rentals. No cost to use the rec center...  plus\, food and crafts! Go to
  silverthorne.org for more details.  
END:VEVENT
BEGIN:VTIMEZONE
TZID:America/Denver
X-LIC-LOCATION:America/Denver
BEGIN:DAYLIGHT
DTSTART:20230312T030000
TZOFFSETFROM:-0700
TZOFFSETTO:-0600
TZNAME:MDT
END:DAYLIGHT
END:VTIMEZONE
END:VCALENDAR