BEGIN:VCALENDAR
VERSION:2.0
PRODID:-//wp-events-plugin.com//7.2.3.1//EN
TZID:America/Denver
X-WR-TIMEZONE:America/Denver
BEGIN:VEVENT
UID:668@krystal93.com
DTSTART;TZID=America/Denver:20230804T163000
DTEND;TZID=America/Denver:20230804T203000
DTSTAMP:20230730T231419Z
URL:https://krystal93.com/events/silverthorne-first-friday-4/
SUMMARY:Silverthorne First Friday
DESCRIPTION:Town of Silverthorne’s First Friday\nWhat: Community Block Pa
 rty\nWhere: Fourth Street Crossing \nWhen: Friday August 4 from 4:30 to 8:
 30pm \n\nDetails: Listen to a variety of local bands on 4 different stage
 s\, check out artist creations\, and enjoy the new art spot\, Silverthorne
  Makerspace. This event stretches from Bluebird Market to Angry James. Fin
 d out more at Silverthorne.org. Krystal Media supports the Summit.  
END:VEVENT
BEGIN:VTIMEZONE
TZID:America/Denver
X-LIC-LOCATION:America/Denver
BEGIN:DAYLIGHT
DTSTART:20230312T030000
TZOFFSETFROM:-0700
TZOFFSETTO:-0600
TZNAME:MDT
END:DAYLIGHT
END:VTIMEZONE
END:VCALENDAR