BEGIN:VCALENDAR
VERSION:2.0
PRODID:-//wp-events-plugin.com//7.2.3.1//EN
TZID:America/Denver
X-WR-TIMEZONE:America/Denver
BEGIN:VEVENT
UID:741@krystal93.com
DTSTART;TZID=America/Denver:20231006T173000
DTEND;TZID=America/Denver:20231006T203000
DTSTAMP:20231002T151511Z
URL:https://krystal93.com/events/silverthorne-first-friday-5/
SUMMARY:Silverthorne First Friday
DESCRIPTION:Silverthorne First Friday \n\nJoin the Town of Silverthorne fo
 r October’s First Friday at the Silverthorne Pavilion. It’s October 6 
 from 5:30 to 8:30pm. There’ll be an all-women ski film called “NEXUS
 ” in celebration of National Women’s Small Business Month. There’ll 
 be ski and snowboard waxing and will feature women-owned businesses. Find 
 out more at silverthorne.org. Krystal Media Supports the Summit.  
END:VEVENT
BEGIN:VTIMEZONE
TZID:America/Denver
X-LIC-LOCATION:America/Denver
BEGIN:DAYLIGHT
DTSTART:20230312T030000
TZOFFSETFROM:-0700
TZOFFSETTO:-0600
TZNAME:MDT
END:DAYLIGHT
END:VTIMEZONE
END:VCALENDAR