BEGIN:VCALENDAR
VERSION:2.0
PRODID:-//wp-events-plugin.com//7.2.3.1//EN
TZID:America/Denver
X-WR-TIMEZONE:America/Denver
BEGIN:VEVENT
UID:746@krystal93.com
DTSTART;TZID=America/Denver:20231103T173000
DTEND;TZID=America/Denver:20231103T193000
DTSTAMP:20231031T161758Z
URL:https://krystal93.com/events/silverthorne-first-friday-6/
SUMMARY:Silverthorne First Friday
DESCRIPTION:Celebrate the cultural heritage within our community at the Tow
 n of Silverthorne’s First Friday\, November 3\, from 5:30 to 8:30pm. It
 ’ll be at the Summit Assembly Hall at Bluebird Market for a Dia De Los M
 uertos Celebration.  It’s a time when the living and deceased come toge
 ther to celebrate life. There’ll be great food\, music\, dance and more.
  Go to silverthorne.org to find out more. Krystal Media Supports the Summi
 t.
CATEGORIES:Town of Silverthorne
END:VEVENT
BEGIN:VTIMEZONE
TZID:America/Denver
X-LIC-LOCATION:America/Denver
BEGIN:DAYLIGHT
DTSTART:20230312T030000
TZOFFSETFROM:-0700
TZOFFSETTO:-0600
TZNAME:MDT
END:DAYLIGHT
END:VTIMEZONE
END:VCALENDAR