BEGIN:VCALENDAR
VERSION:2.0
PRODID:-//wp-events-plugin.com//7.2.3.1//EN
TZID:America/Denver
X-WR-TIMEZONE:America/Denver
BEGIN:VEVENT
UID:906@krystal93.com
DTSTART;TZID=America/Denver:20240301T173000
DTEND;TZID=America/Denver:20240301T203000
DTSTAMP:20240301T035546Z
URL:https://krystal93.com/events/silverthorne-first-friday-8/
SUMMARY:Silverthorne First Friday
DESCRIPTION:Join the Town of Silverthorne  for March First Friday – it's
  the Seventh annual Silverthorne Rail Jam. Stop by the Silverthorne Perfor
 ming Arts lawn from 5:30 to 8:30pm for a ski and snowboard rail jam. There
 ’ll be live music\, art\, and food. For more information or to register 
 go to Silverthorne-dot-org. Krystal Media Supports the Summit.  
CATEGORIES:Town of Silverthorne
END:VEVENT
BEGIN:VTIMEZONE
TZID:America/Denver
X-LIC-LOCATION:America/Denver
BEGIN:STANDARD
DTSTART:20231105T010000
TZOFFSETFROM:-0600
TZOFFSETTO:-0700
TZNAME:MST
END:STANDARD
END:VTIMEZONE
END:VCALENDAR