BEGIN:VCALENDAR
VERSION:2.0
PRODID:-//wp-events-plugin.com//7.2.3.1//EN
TZID:America/Denver
X-WR-TIMEZONE:America/Denver
BEGIN:VEVENT
UID:969@krystal93.com
DTSTART;TZID=America/Denver:20240503T163000
DTEND;TZID=America/Denver:20240503T213000
DTSTAMP:20240502T034643Z
URL:https://krystal93.com/events/silverthorne-first-friday-9/
SUMMARY:Silverthorne First Friday
DESCRIPTION:One of Silverthorne’s most popular First Friday events\, the 
 Locals’ Appreciation Party Sponsored by Locals Liquors\, is Friday\, May
  3 on the Silverthorne Performing Arts Center lawn from 4:30pm to 8 p.m. T
 here will be free beer\, wine and liquor tasting and live music from Stere
 o Transmission and the Chris Bauer Band. While the May First Friday event 
 is free\, you are strongly encouraged to make donations to local non-profi
 ts. Krystal Media Supports the Summit.
CATEGORIES:Town of Silverthorne
END:VEVENT
BEGIN:VTIMEZONE
TZID:America/Denver
X-LIC-LOCATION:America/Denver
BEGIN:DAYLIGHT
DTSTART:20240310T030000
TZOFFSETFROM:-0700
TZOFFSETTO:-0600
TZNAME:MDT
END:DAYLIGHT
END:VTIMEZONE
END:VCALENDAR