BEGIN:VCALENDAR
VERSION:2.0
PRODID:-//wp-events-plugin.com//7.2.3.1//EN
TZID:America/Denver
X-WR-TIMEZONE:America/Denver
BEGIN:VEVENT
UID:461@krystal93.com
DTSTART;TZID=America/Denver:20230303T170000
DTEND;TZID=America/Denver:20230303T203000
DTSTAMP:20230222T183306Z
URL:https://krystal93.com/events/silverthorne-first-friday-rail-jam/
SUMMARY:Silverthorne First Friday: Rail Jam
DESCRIPTION:Silverthorne First Friday: Rail Jam! \n\nWhen: Friday March 3 
 from 5:00-8:30pm \n\nWhere: Silverthorne Performing Arts Center Lawn \n\
 nDetails: Stop by to see a fantastic ski and snowboard rail jam with LIVE 
 music from the Frisco Funk Collective. Register to compete or just watch..
 . you can get more information at Silverthorne.org. 
END:VEVENT
BEGIN:VTIMEZONE
TZID:America/Denver
X-LIC-LOCATION:America/Denver
BEGIN:STANDARD
DTSTART:20221106T010000
TZOFFSETFROM:-0600
TZOFFSETTO:-0700
TZNAME:MST
END:STANDARD
END:VTIMEZONE
END:VCALENDAR