BEGIN:VCALENDAR
VERSION:2.0
PRODID:-//wp-events-plugin.com//7.2.3.1//EN
TZID:America/Denver
X-WR-TIMEZONE:America/Denver
BEGIN:VEVENT
UID:556@krystal93.com
DTSTART;TZID=America/Denver:20230505T163000
DTEND;TZID=America/Denver:20230505T203000
DTSTAMP:20230430T230121Z
URL:https://krystal93.com/events/silverthorne-first-fridays/
SUMMARY:Silverthorne First Fridays
DESCRIPTION:What: Town of Silverthorne’s First Friday  \n\nWhen: Friday
 \, May 5 from 4:30-8:30pm \n\nWhere: Silverthorne Performing Arts Center 
 Lawn \n\nDetails: The Town of Silverthorne is celebrating locals on May
 ’s first Friday\, presented by Locals Liquors. Stop by for free beer\, w
 ine and liquor samples from over 30 vendors.  There’ll also be live mus
 ic from the Chris Bauer Trio and Blue River Grass. This is a free event...
  donations are strongly encouraged. For more information go to silverthorn
 e-dot-org. Krystal Media Supports the Summit. 
END:VEVENT
BEGIN:VTIMEZONE
TZID:America/Denver
X-LIC-LOCATION:America/Denver
BEGIN:DAYLIGHT
DTSTART:20230312T030000
TZOFFSETFROM:-0700
TZOFFSETTO:-0600
TZNAME:MDT
END:DAYLIGHT
END:VTIMEZONE
END:VCALENDAR