BEGIN:VCALENDAR
VERSION:2.0
PRODID:-//wp-events-plugin.com//7.2.3.1//EN
TZID:America/Denver
X-WR-TIMEZONE:America/Denver
BEGIN:VEVENT
UID:1726@krystal93.com
DTSTART;TZID=America/Denver:20251005T110000
DTEND;TZID=America/Denver:20251005T140000
DTSTAMP:20250929T161819Z
URL:https://krystal93.com/events/silverthorne-free-pumpkin-fest/
SUMMARY:Silverthorne - Free Pumpkin Fest
DESCRIPTION:Celebrate fall at Silverthorne’s Free Pumpkin Fest on Sunday 
 October 5th\, from 11:00am to 2:00pm. Kids of all ages can enjoy a giant p
 umpkin patch at Rainbow Park in Silverthorne\, there’ll be train rides\,
  bounce houses and fall crafts as well as a spooky circus show. Head to th
 e Silverthorne Pumpkin Fest on October 5th! Find out more at Silverthorne.
 org.
END:VEVENT
BEGIN:VTIMEZONE
TZID:America/Denver
X-LIC-LOCATION:America/Denver
BEGIN:DAYLIGHT
DTSTART:20250309T030000
TZOFFSETFROM:-0700
TZOFFSETTO:-0600
TZNAME:MDT
END:DAYLIGHT
END:VTIMEZONE
END:VCALENDAR