BEGIN:VCALENDAR
VERSION:2.0
PRODID:-//wp-events-plugin.com//7.2.3.1//EN
TZID:America/Denver
X-WR-TIMEZONE:America/Denver
BEGIN:VEVENT
UID:1775@krystal93.com
DTSTART;TZID=America/Denver:20260102T160000
DTEND;TZID=America/Denver:20260102T200000
DTSTAMP:20260102T023950Z
URL:https://krystal93.com/events/silverthornes-january-first-friday/
SUMMARY:Silverthorne's January First Friday
DESCRIPTION:Due to ice conditions Silverthorne’s January First Friday pl
 ans for today have changed\, so no ice fishing or polar plunge. Instead\, 
 head to the Art Spot Silverthorne Makerspace from 4 to 8pm for guided craf
 ts. There’ll be artist demos too. Enjoy free empanadas and hot chocolat
 e while supplies last. Learn more at Silverthorne.org. 
CATEGORIES:Town of Silverthorne
END:VEVENT
BEGIN:VTIMEZONE
TZID:America/Denver
X-LIC-LOCATION:America/Denver
BEGIN:STANDARD
DTSTART:20251102T010000
TZOFFSETFROM:-0600
TZOFFSETTO:-0700
TZNAME:MST
END:STANDARD
END:VTIMEZONE
END:VCALENDAR