BEGIN:VCALENDAR
VERSION:2.0
PRODID:-//wp-events-plugin.com//7.2.3.1//EN
TZID:America/Denver
X-WR-TIMEZONE:America/Denver
BEGIN:VEVENT
UID:620@krystal93.com
DTSTART;TZID=America/Denver:20230622T120000
DTEND;TZID=America/Denver:20230622T140000
DTSTAMP:20230601T021232Z
URL:https://krystal93.com/events/skateboarding-12-18-3/
SUMMARY:Skateboarding (12-18)
DESCRIPTION:SKATEBOARDING AGES 12-18 \n\nLearn to skate like a pro! Join Th
 e HYPE at the Silverthorne Skate Park for a fun and instructional day of s
 kating. Participation limited to ages 12-18. Facilitated in English. \n\nT
 ime: 12-2pm \n\nLocation: Silverthorne \n\nGo to Building Hope Summit Coun
 ty for more information.  
CATEGORIES:Building Hope Summit County
END:VEVENT
BEGIN:VTIMEZONE
TZID:America/Denver
X-LIC-LOCATION:America/Denver
BEGIN:DAYLIGHT
DTSTART:20230312T030000
TZOFFSETFROM:-0700
TZOFFSETTO:-0600
TZNAME:MDT
END:DAYLIGHT
END:VTIMEZONE
END:VCALENDAR