BEGIN:VCALENDAR
VERSION:2.0
PRODID:-//wp-events-plugin.com//7.2.3.1//EN
TZID:America/Denver
X-WR-TIMEZONE:America/Denver
BEGIN:VEVENT
UID:634@krystal93.com
DTSTART;TZID=America/Denver:20230718T120000
DTEND;TZID=America/Denver:20230718T140000
DTSTAMP:20230701T151829Z
URL:https://krystal93.com/events/skateboarding-12-18-4/
SUMMARY:Skateboarding (12-18)
DESCRIPTION:\n\n\n\n\n\n\n\n\n\n\n\n\n\n\n\n\n\n\nSKATEBOARDING AGES 12-18 
 18 Learn to skate like a pro! Join The HYPE at the Silverthorne Skate TUE
 SDAY Park for a fun and instructional day of skating. Participation limit
 ed to ages 12-18. Facilitated in English.\n\nTime: 12-2pm\n\nLocation: Sil
 verthorne\n\n\n\n\n\n\n\n\n\n\n\n\n\n\n\n\n\n\n\nGo to Building Hope Summi
 t County for more information.  
CATEGORIES:Building Hope Summit County
END:VEVENT
BEGIN:VTIMEZONE
TZID:America/Denver
X-LIC-LOCATION:America/Denver
BEGIN:DAYLIGHT
DTSTART:20230312T030000
TZOFFSETFROM:-0700
TZOFFSETTO:-0600
TZNAME:MDT
END:DAYLIGHT
END:VTIMEZONE
END:VCALENDAR