BEGIN:VCALENDAR
VERSION:2.0
PRODID:-//wp-events-plugin.com//7.2.3.1//EN
TZID:America/Denver
X-WR-TIMEZONE:America/Denver
BEGIN:VEVENT
UID:1162@krystal93.com
DTSTART;TZID=America/Denver:20240907T100000
DTEND;TZID=America/Denver:20240907T120000
DTSTAMP:20240829T221428Z
URL:https://krystal93.com/events/skateboarding-12-18-5/
SUMMARY:Skateboarding (12-18)
DESCRIPTION:SATURDAY\, SEPTEMBER 7\n10 am-12 pm\nSKATEBOARDING\nSilverthorn
 e\nCome and join the HYPE for a\nSkateboarding class at the Silverthorne\n
 Skate Park! All levels are welcome.\nAges 12-18.\n\nEvent Facilitated in E
 nglish\nGo to buildinghopesummit.org for more info and to sign up.
CATEGORIES:Building Hope Summit County
END:VEVENT
BEGIN:VTIMEZONE
TZID:America/Denver
X-LIC-LOCATION:America/Denver
BEGIN:DAYLIGHT
DTSTART:20240310T030000
TZOFFSETFROM:-0700
TZOFFSETTO:-0600
TZNAME:MDT
END:DAYLIGHT
END:VTIMEZONE
END:VCALENDAR