BEGIN:VCALENDAR
VERSION:2.0
PRODID:-//wp-events-plugin.com//7.2.3.1//EN
TZID:America/Denver
X-WR-TIMEZONE:America/Denver
BEGIN:VEVENT
UID:908@krystal93.com
DTSTART;TZID=America/Denver:20240302T000000
DTEND;TZID=America/Denver:20240303T000000
DTSTAMP:20240301T035955Z
URL:https://krystal93.com/events/smart-bellies-pickle-ball-tourney/
SUMMARY:Smart Bellies Pickle Ball Tourney
DESCRIPTION:Support Smart Bellies weekend food program and play pickleball 
 for a good cause!  Gather your pickle ball loving friends and register to
  play in the “Pickle in the Snowy Peaks Tournament” this Saturday and 
 Sunday at the Breck Rec Center.  No partner needed. Learn more at smartbe
 llies.org/pickle.  
END:VEVENT
BEGIN:VTIMEZONE
TZID:America/Denver
X-LIC-LOCATION:America/Denver
BEGIN:STANDARD
DTSTART:20231105T010000
TZOFFSETFROM:-0600
TZOFFSETTO:-0700
TZNAME:MST
END:STANDARD
END:VTIMEZONE
END:VCALENDAR