BEGIN:VCALENDAR
VERSION:2.0
PRODID:-//wp-events-plugin.com//7.2.3.1//EN
TZID:America/Denver
X-WR-TIMEZONE:America/Denver
BEGIN:VEVENT
UID:527@krystal93.com
DTSTART;TZID=America/Denver:20230406T180000
DTEND;TZID=America/Denver:20230406T210000
DTSTAMP:20230330T155137Z
URL:https://krystal93.com/events/smrf-benefit-concert/
SUMMARY:SMRF Benefit Concert
DESCRIPTION:Krystal 93 and the Summit Musicians Relief Fund invite you to t
 he SMRF Spring Benefit Concert! Live music all night from local musicians\
 , including High Five\, The Frisco Funk Collective and the Chris Bauer Ban
 d. \n\nWhen: Thursday\, April 6\, music starts at 6pm.\n\nWhere: Silvertho
 rne Pavilion\n\nDetails: There’s a huge silent auction with proceeds goi
 ng to the SMRF - the Summit Musicians Relief Fund. It’s your chance to s
 upport a local non-profit organization with the mission of helping local m
 usicians in time of need. Krystal Media Supports the Summit.   
END:VEVENT
BEGIN:VTIMEZONE
TZID:America/Denver
X-LIC-LOCATION:America/Denver
BEGIN:DAYLIGHT
DTSTART:20230312T030000
TZOFFSETFROM:-0700
TZOFFSETTO:-0600
TZNAME:MDT
END:DAYLIGHT
END:VTIMEZONE
END:VCALENDAR