BEGIN:VCALENDAR
VERSION:2.0
PRODID:-//wp-events-plugin.com//7.2.3.1//EN
TZID:America/Denver
X-WR-TIMEZONE:America/Denver
BEGIN:VEVENT
UID:1490@krystal93.com
DTSTART;TZID=America/Denver;VALUE=DATE:20250513
DTEND;TZID=America/Denver;VALUE=DATE:20250514
DTSTAMP:20250501T233212Z
URL:https://krystal93.com/events/snarfs-bite-back-hunger-day/
SUMMARY:Snarf's Bite Back Hunger Day
DESCRIPTION:The 3rd annual Snarf's “Bite Back Hunger Day”  is Tuesday\
 , May 13th.  Snarf’s is donating 100% of profits from our Colorado Snar
 f’s Sandwiches and Snarfburger to Food Bank of the Rockies in an effort 
 to help people in our communities who are experiencing food insecurity. Th
 e more who order on May 13th\, the more meals Snarf’s can fund for those
  in need. Krystal Media Supports the Summit.  
CATEGORIES:Fundraiser
END:VEVENT
BEGIN:VTIMEZONE
TZID:America/Denver
X-LIC-LOCATION:America/Denver
BEGIN:DAYLIGHT
DTSTART:20250309T030000
TZOFFSETFROM:-0700
TZOFFSETTO:-0600
TZNAME:MDT
END:DAYLIGHT
END:VTIMEZONE
END:VCALENDAR