BEGIN:VCALENDAR
VERSION:2.0
PRODID:-//wp-events-plugin.com//7.2.3.1//EN
TZID:America/Denver
X-WR-TIMEZONE:America/Denver
BEGIN:VEVENT
UID:491@krystal93.com
DTSTART;TZID=America/Denver:20230326T100000
DTEND;TZID=America/Denver:20230326T113000
DTSTAMP:20230228T171956Z
URL:https://krystal93.com/events/snow-tubing-12-18/
SUMMARY:Snow Tubing (12-18)
DESCRIPTION:SNOW TUBING AGES 12-18  \n\nThe Frisco Adventure Park tubing h
 ill has several lanes\, each one has a different experience – some are m
 ellower\, while others are steeper with more rolling terrain. The hill is 
 accessed by a surface lift\, making it the ideal activity for the whole fa
 mily. Presented by Summit County Youth and Family Services\, the Teen Cent
 er\, and Building Hope for Summit County Resident Teens. Event Facilitated
  in English. www.buildinghopesummit.org/events \n\nTime: 10-11:30pm Locat
 ion: Frisco 
CATEGORIES:Building Hope Summit County
END:VEVENT
BEGIN:VTIMEZONE
TZID:America/Denver
X-LIC-LOCATION:America/Denver
BEGIN:DAYLIGHT
DTSTART:20230312T030000
TZOFFSETFROM:-0700
TZOFFSETTO:-0600
TZNAME:MDT
END:DAYLIGHT
END:VTIMEZONE
END:VCALENDAR