BEGIN:VCALENDAR
VERSION:2.0
PRODID:-//wp-events-plugin.com//7.2.3.1//EN
TZID:America/Denver
X-WR-TIMEZONE:America/Denver
BEGIN:VEVENT
UID:521@krystal93.com
DTSTART;TZID=America/Denver:20230419T180000
DTEND;TZID=America/Denver:20230419T193000
DTSTAMP:20230330T153842Z
URL:https://krystal93.com/events/sound-healing-3/
SUMMARY:Sound Healing
DESCRIPTION:SOUND HEALING \n\nLet the waves of sound wash over you. Join u
 s in this relaxing Sound Bath experience. \n\nFacilitated in English. \n
 \nTime: 6-7:30pm Location: Silverthorne \n\nwww.buildinghopesummit.org/ev
 ents \n\n&nbsp\;
CATEGORIES:Building Hope Summit County
END:VEVENT
BEGIN:VTIMEZONE
TZID:America/Denver
X-LIC-LOCATION:America/Denver
BEGIN:DAYLIGHT
DTSTART:20230312T030000
TZOFFSETFROM:-0700
TZOFFSETTO:-0600
TZNAME:MDT
END:DAYLIGHT
END:VTIMEZONE
END:VCALENDAR