BEGIN:VCALENDAR
VERSION:2.0
PRODID:-//wp-events-plugin.com//7.2.3.1//EN
TZID:America/Denver
X-WR-TIMEZONE:America/Denver
BEGIN:VEVENT
UID:1195@krystal93.com
DTSTART;TZID=America/Denver:20241024T180000
DTEND;TZID=America/Denver:20241024T190000
DTSTAMP:20240930T211534Z
URL:https://krystal93.com/events/sound-healing-4/
SUMMARY:Sound Healing
DESCRIPTION:THURSDAY\, OCTOBER 24\n6-7 pm\nSOUND HEALING\nSilverthorne\nLed
  by EJ\, let the sound waves wash over\nyou in this relaxing Sound Bath ex
 perience.\nEvent Facilitated in English.\nGo to buildinghopesummit.org for
  more information.
CATEGORIES:Building Hope Summit County
END:VEVENT
BEGIN:VTIMEZONE
TZID:America/Denver
X-LIC-LOCATION:America/Denver
BEGIN:DAYLIGHT
DTSTART:20240310T030000
TZOFFSETFROM:-0700
TZOFFSETTO:-0600
TZNAME:MDT
END:DAYLIGHT
END:VTIMEZONE
END:VCALENDAR