BEGIN:VCALENDAR
VERSION:2.0
PRODID:-//wp-events-plugin.com//7.2.3.1//EN
TZID:America/Denver
X-WR-TIMEZONE:America/Denver
BEGIN:VEVENT
UID:1893@krystal93.com
DTSTART;TZID=America/Denver:20260417T180000
DTEND;TZID=America/Denver:20260417T190000
DTSTAMP:20260329T133522Z
URL:https://krystal93.com/events/sound-healing-5/
SUMMARY:Sound Healing
DESCRIPTION:FRIDAY\, APRIL 17\, 2026\nSound Healing with EJ\n6:00-7:00pm / 
 Frisco\nEnd your week with some well deserved relaxation.\nJoin us and all
 ow the sound waves to wash over you\nin this relaxing Sound Bath experienc
 e led by EJ.\nThis event is intended for Summit County residents only.\nEv
 ent Facilitated in English.\nCONTACT BuildingHopeSummit.org for more infor
 mation and to sign up.
CATEGORIES:Building Hope Summit County
END:VEVENT
BEGIN:VTIMEZONE
TZID:America/Denver
X-LIC-LOCATION:America/Denver
BEGIN:DAYLIGHT
DTSTART:20260308T030000
TZOFFSETFROM:-0700
TZOFFSETTO:-0600
TZNAME:MDT
END:DAYLIGHT
END:VTIMEZONE
END:VCALENDAR