BEGIN:VCALENDAR
VERSION:2.0
PRODID:-//wp-events-plugin.com//7.2.3.1//EN
TZID:America/Denver
X-WR-TIMEZONE:America/Denver
BEGIN:VEVENT
UID:737@krystal93.com
DTSTART;TZID=America/Denver:20231019T150000
DTEND;TZID=America/Denver:20231019T170000
DTSTAMP:20231002T150841Z
URL:https://krystal93.com/events/sound-healing-acupuncture-2/
SUMMARY:Sound Healing & Acupuncture
DESCRIPTION:ART WITH MS. PAIGE \n\nJoin the HYPE with Ms. Paige at Summit H
 igh School to learn how to create your own art projects! Participation lim
 ited to ages 12-18. Facilitated in English. Time: 3-5pm Location: Breckenr
 idge  \n\nGo to buildinghopesummit.org for more details.
CATEGORIES:Building Hope Summit County
END:VEVENT
BEGIN:VTIMEZONE
TZID:America/Denver
X-LIC-LOCATION:America/Denver
BEGIN:DAYLIGHT
DTSTART:20230312T030000
TZOFFSETFROM:-0700
TZOFFSETTO:-0600
TZNAME:MDT
END:DAYLIGHT
END:VTIMEZONE
END:VCALENDAR