BEGIN:VCALENDAR
VERSION:2.0
PRODID:-//wp-events-plugin.com//7.2.3.1//EN
TZID:America/Denver
X-WR-TIMEZONE:America/Denver
BEGIN:VEVENT
UID:736@krystal93.com
DTSTART;TZID=America/Denver:20231018T180000
DTEND;TZID=America/Denver:20231018T190000
DTSTAMP:20231002T150804Z
URL:https://krystal93.com/events/sound-healing-acupuncture/
SUMMARY:Sound Healing & Acupuncture
DESCRIPTION:SOUND HEALING AND ACUPUNCTURE \n\nLet the waves of sound wash o
 ver you. Join us in this relaxing and meditative Sound Bath experience com
 bined with light acupuncture. Participation limited to ages 18+. Facilitat
 ed in English.  \n\nTime: 6-7pm Location: Silverthorne  \n\nGo to buildi
 nghopesummit.org for more details.
CATEGORIES:Building Hope Summit County
END:VEVENT
BEGIN:VTIMEZONE
TZID:America/Denver
X-LIC-LOCATION:America/Denver
BEGIN:DAYLIGHT
DTSTART:20230312T030000
TZOFFSETFROM:-0700
TZOFFSETTO:-0600
TZNAME:MDT
END:DAYLIGHT
END:VTIMEZONE
END:VCALENDAR