BEGIN:VCALENDAR
VERSION:2.0
PRODID:-//wp-events-plugin.com//7.2.3.1//EN
TZID:America/Denver
X-WR-TIMEZONE:America/Denver
BEGIN:VEVENT
UID:445@krystal93.com
DTSTART;TZID=America/Denver:20230325T173000
DTEND;TZID=America/Denver:20230325T220000
DTSTAMP:20230216T025827Z
URL:https://krystal93.com/events/soup-for-the-soul-fundraiser/
SUMMARY:Soup for the Soul - Fundraiser
DESCRIPTION:Soup for the Soul\, Summit Community Care Clinic's annual fundr
 aiser returns with a night of fun\, food\, dancing\, and music Saturday\, 
 March 25 5:30pm to 10:00pm at the Keystone Conference Center.  Back by po
 pular demand\, HomeSlice\, a nine-piece high-energy dance band will have y
 ou on the dance floor all night.  Learn more at www.SoupfortheSoulSummit.
 org.
END:VEVENT
BEGIN:VTIMEZONE
TZID:America/Denver
X-LIC-LOCATION:America/Denver
BEGIN:DAYLIGHT
DTSTART:20230312T030000
TZOFFSETFROM:-0700
TZOFFSETTO:-0600
TZNAME:MDT
END:DAYLIGHT
END:VTIMEZONE
END:VCALENDAR