BEGIN:VCALENDAR
VERSION:2.0
PRODID:-//wp-events-plugin.com//7.2.3.1//EN
TZID:America/Denver
X-WR-TIMEZONE:America/Denver
BEGIN:VEVENT
UID:1560@krystal93.com
DTSTART;TZID=America/Denver;VALUE=DATE:20250704
DTEND;TZID=America/Denver;VALUE=DATE:20250706
DTSTAMP:20250702T004335Z
URL:https://krystal93.com/events/south-park-bluegrass-festival/
SUMMARY:South Park Bluegrass Festival
DESCRIPTION:The 2nd annual South Park Bluegrass Festival is happening Frida
 y and Saturday July 4 and 5 in Alma. Enjoy the sweet sounds of strings and
  the spirit of bluegrass\, including Burl Galloway and the High Country An
 gels featuring Sway and Stinson and headliners the Nershi Hann Trio.   
    The South Park Bluegrass Festival July 4th and 5th. Get tickets at so
 uthparkbluegrassfestival.org. Krystal Media Supports the Summit. \n\n 
END:VEVENT
BEGIN:VTIMEZONE
TZID:America/Denver
X-LIC-LOCATION:America/Denver
BEGIN:DAYLIGHT
DTSTART:20250309T030000
TZOFFSETFROM:-0700
TZOFFSETTO:-0600
TZNAME:MDT
END:DAYLIGHT
END:VTIMEZONE
END:VCALENDAR