BEGIN:VCALENDAR
VERSION:2.0
PRODID:-//wp-events-plugin.com//7.2.3.1//EN
TZID:America/Denver
X-WR-TIMEZONE:America/Denver
BEGIN:VEVENT
UID:1378@krystal93.com
DTSTART;TZID=America/Denver:20250206T180000
DTEND;TZID=America/Denver:20250206T210000
DTSTAMP:20250203T145001Z
URL:https://krystal93.com/events/spread-the-love-celebration/
SUMMARY:Spread the Love Celebration
DESCRIPTION:You’re invited to the 2nd annual Spread the Love celebration 
 for the Timberline Adult Day Program. It’s Thursday February 6 from 6-9p
 m at the Silverthorne Pavilion. There’ll be a silent and live auction\, 
 and live entertainment from the band 9000 Ft. Go to timberlineadultday.com
  for more info. Krystal Media Supports the Summit.  
END:VEVENT
BEGIN:VTIMEZONE
TZID:America/Denver
X-LIC-LOCATION:America/Denver
BEGIN:STANDARD
DTSTART:20241103T010000
TZOFFSETFROM:-0600
TZOFFSETTO:-0700
TZNAME:MST
END:STANDARD
END:VTIMEZONE
END:VCALENDAR