BEGIN:VCALENDAR
VERSION:2.0
PRODID:-//wp-events-plugin.com//7.2.3.1//EN
TZID:America/Denver
X-WR-TIMEZONE:America/Denver
BEGIN:VEVENT
UID:1521@krystal93.com
DTSTART;TZID=America/Denver:20250611T180000
DTEND;TZID=America/Denver:20250611T220000
DTSTAMP:20250602T023406Z
URL:https://krystal93.com/events/st-paul-the-broken-bones-and-wood-brother
 s/
SUMMARY:St. Paul & the Broken Bones and Wood Brothers
DESCRIPTION:St. Paul and the Broken Bones and The Wood Brothers\nWith speci
 al guest Cece Coakley\n\n 	Date:06/11/2025 6:00 PM - 10:00 PM\n 	Location:
 Dillon Amphitheater\n135 W. Lodgepole Street\nDillon\, Colorado 80435\n
CATEGORIES:Dillon Amphitheater
END:VEVENT
BEGIN:VTIMEZONE
TZID:America/Denver
X-LIC-LOCATION:America/Denver
BEGIN:DAYLIGHT
DTSTART:20250309T030000
TZOFFSETFROM:-0700
TZOFFSETTO:-0600
TZNAME:MDT
END:DAYLIGHT
END:VTIMEZONE
END:VCALENDAR