BEGIN:VCALENDAR
VERSION:2.0
PRODID:-//wp-events-plugin.com//7.2.3.1//EN
TZID:America/Denver
X-WR-TIMEZONE:America/Denver
BEGIN:VEVENT
UID:740@krystal93.com
DTSTART;TZID=America/Denver:20231007T160000
DTEND;TZID=America/Denver:20231007T190000
DTSTAMP:20231002T151407Z
URL:https://krystal93.com/events/still-on-the-hill/
SUMMARY:Still on the Hill
DESCRIPTION:You’re invited to the Still on the Hill Grand Tasting\, on Sa
 turday\, October 7 from 4-7pm at the Riverwalk Center in Breckenridge. Sam
 ple products from craft distillers and meet the distillers! Tickets includ
 e a tasting glass and entry to the grand tasting. For tickets and more inf
 o\, go to breckenridgecraftspiritsfestival.com. Krystal Media Supports the
  Summit.
END:VEVENT
BEGIN:VTIMEZONE
TZID:America/Denver
X-LIC-LOCATION:America/Denver
BEGIN:DAYLIGHT
DTSTART:20230312T030000
TZOFFSETFROM:-0700
TZOFFSETTO:-0600
TZNAME:MDT
END:DAYLIGHT
END:VTIMEZONE
END:VCALENDAR