BEGIN:VCALENDAR
VERSION:2.0
PRODID:-//wp-events-plugin.com//7.2.3.1//EN
TZID:America/Denver
X-WR-TIMEZONE:America/Denver
BEGIN:VEVENT
UID:696@krystal93.com
DTSTART;TZID=America/Denver:20230906T183000
DTEND;TZID=America/Denver:20230906T200000
DTSTAMP:20230831T035343Z
URL:https://krystal93.com/events/stress-relief-workshop/
SUMMARY:Stress Relief Workshop
DESCRIPTION:\n\n\n\n\n\n\n\n\n\nSUMMIT COUNTY STRESS RELIEF WORKSHOP\n\nWe 
 all know that Summit County can be a stressful place to call home. Learn t
 ips and techniques to help deal with these stresses with mindfulness exper
 t Mike Messeroff! Participation limited to age 18+.\n\nTime: 6:30-8pm Loca
 tion: Frisco\n\n\n\n\n\n\n\n\n\n\nGo to Building Hope Summit County for mo
 re information.  
CATEGORIES:Building Hope Summit County
END:VEVENT
BEGIN:VTIMEZONE
TZID:America/Denver
X-LIC-LOCATION:America/Denver
BEGIN:DAYLIGHT
DTSTART:20230312T030000
TZOFFSETFROM:-0700
TZOFFSETTO:-0600
TZNAME:MDT
END:DAYLIGHT
END:VTIMEZONE
END:VCALENDAR