BEGIN:VCALENDAR
VERSION:2.0
PRODID:-//wp-events-plugin.com//7.2.3.1//EN
TZID:America/Denver
X-WR-TIMEZONE:America/Denver
BEGIN:VEVENT
UID:1677@krystal93.com
DTSTART;TZID=America/Denver:20250809T140000
DTEND;TZID=America/Denver:20250809T180000
DTSTAMP:20250804T202438Z
URL:https://krystal93.com/events/summer-celebration-keystone-science-schoo
 l/
SUMMARY:Summer Celebration - Keystone Science School
DESCRIPTION:Keystone Science School invites you to their “Summer Celebrat
 ion” Saturday\, August 9 . It’s a fundraiser celebration to support th
 eir mission of providing outdoor &amp\; science education to youth. Live m
 usic with the Shaky Hand String Band\, a silent auction\, food and drink\,
  fun and games for the whole family! This Saturday afternoon from 2 to 6 a
 t the Keystone Science School Campus. Get tickets at keystonescienceschool
 .org. Kids 5 &amp\; under get in free. 
CATEGORIES:Keystone
END:VEVENT
BEGIN:VTIMEZONE
TZID:America/Denver
X-LIC-LOCATION:America/Denver
BEGIN:DAYLIGHT
DTSTART:20250309T030000
TZOFFSETFROM:-0700
TZOFFSETTO:-0600
TZNAME:MDT
END:DAYLIGHT
END:VTIMEZONE
END:VCALENDAR