BEGIN:VCALENDAR
VERSION:2.0
PRODID:-//wp-events-plugin.com//7.2.3.1//EN
TZID:America/Denver
X-WR-TIMEZONE:America/Denver
BEGIN:VEVENT
UID:592@krystal93.com
DTSTART;TZID=America/Denver;VALUE=DATE:20230529
DTEND;TZID=America/Denver;VALUE=DATE:20230530
DTSTAMP:20230511T130408Z
URL:https://krystal93.com/events/summit-advocates-charity-golf/
SUMMARY:Summit Advocates Charity Golf
DESCRIPTION:Who:  Summit Advocates \n\nWhat:  4th Annual Charity Golf To
 urnament \n\nWhen:  Monday May 29  \n\nWhere:  The River Course at Ke
 ystone  \n\nWhy:  Support Summit Advocates' largest annual fundraising 
 event where all proceeds will benefit survivors of domestic violence and s
 exual assault. Sign Up your team of 4 at summitadvocates.org. The 4-person
  registration fee is $480 ($120/per person) with lunch included.  Krystal
  Media Supports the Summit. 
END:VEVENT
BEGIN:VTIMEZONE
TZID:America/Denver
X-LIC-LOCATION:America/Denver
BEGIN:DAYLIGHT
DTSTART:20230312T030000
TZOFFSETFROM:-0700
TZOFFSETTO:-0600
TZNAME:MDT
END:DAYLIGHT
END:VTIMEZONE
END:VCALENDAR