BEGIN:VCALENDAR
VERSION:2.0
PRODID:-//wp-events-plugin.com//7.2.3.1//EN
TZID:America/Denver
X-WR-TIMEZONE:America/Denver
BEGIN:VEVENT
UID:1244@krystal93.com
DTSTART;TZID=America/Denver:20241107T170000
DTEND;TZID=America/Denver:20241107T190000
DTSTAMP:20241101T165031Z
URL:https://krystal93.com/events/summit-chamber-mixer-3/
SUMMARY:Summit Chamber Mixer
DESCRIPTION:Join the Summit Chamber for a “Mix and Mingle” Thursday\, N
 ovember 7\, from 5 to 7pm. It’ll be at the Vue Rooftop in Dillon. $10 fo
 r members\, 20 for non-members. Krystal Media supports the Summit. 
END:VEVENT
BEGIN:VTIMEZONE
TZID:America/Denver
X-LIC-LOCATION:America/Denver
BEGIN:STANDARD
DTSTART:20241103T010000
TZOFFSETFROM:-0600
TZOFFSETTO:-0700
TZNAME:MST
END:STANDARD
END:VTIMEZONE
END:VCALENDAR