BEGIN:VCALENDAR
VERSION:2.0
PRODID:-//wp-events-plugin.com//7.2.3.1//EN
TZID:America/Denver
X-WR-TIMEZONE:America/Denver
BEGIN:VEVENT
UID:1275@krystal93.com
DTSTART;TZID=America/Denver:20241203T170000
DTEND;TZID=America/Denver:20241203T190000
DTSTAMP:20241201T202036Z
URL:https://krystal93.com/events/summit-chamber-mixer-4/
SUMMARY:Summit Chamber Mixer
DESCRIPTION:Join the Summit Chamber for a holiday mixer Tuesday\, December 
 3 from 5-7pm at Beaver Run in Breckenridge. Kids can take photos with Sant
 a and enjoy crafts with Frosted Flamingo. There’ll be light appetizers\,
  beverages and holiday cheer! Krystal Media Supports the Summit.  
CATEGORIES:Summit Chamber
END:VEVENT
BEGIN:VTIMEZONE
TZID:America/Denver
X-LIC-LOCATION:America/Denver
BEGIN:STANDARD
DTSTART:20241103T010000
TZOFFSETFROM:-0600
TZOFFSETTO:-0700
TZNAME:MST
END:STANDARD
END:VTIMEZONE
END:VCALENDAR