BEGIN:VCALENDAR
VERSION:2.0
PRODID:-//wp-events-plugin.com//7.2.3.1//EN
TZID:America/Denver
X-WR-TIMEZONE:America/Denver
BEGIN:VEVENT
UID:1330@krystal93.com
DTSTART;TZID=America/Denver:20250116T170000
DTEND;TZID=America/Denver:20250116T190000
DTSTAMP:20250102T150912Z
URL:https://krystal93.com/events/summit-chamber-mixer-5/
SUMMARY:Summit Chamber Mixer
DESCRIPTION:Thursday 1/16 5-7pm @ Art Spot Silverthorne \n\nPaint your own
  pottery \n\nEnjoy demos from local artists \n\nCharcuterie beer and win
 e \n\n$20 members\, $10 nonmembers  
END:VEVENT
BEGIN:VTIMEZONE
TZID:America/Denver
X-LIC-LOCATION:America/Denver
BEGIN:STANDARD
DTSTART:20241103T010000
TZOFFSETFROM:-0600
TZOFFSETTO:-0700
TZNAME:MST
END:STANDARD
END:VTIMEZONE
END:VCALENDAR