BEGIN:VCALENDAR
VERSION:2.0
PRODID:-//wp-events-plugin.com//7.2.3.1//EN
TZID:America/Denver
X-WR-TIMEZONE:America/Denver
BEGIN:VEVENT
UID:1452@krystal93.com
DTSTART;TZID=America/Denver:20250415T170000
DTEND;TZID=America/Denver:20250415T190000
DTSTAMP:20250331T143155Z
URL:https://krystal93.com/events/summit-chamber-mixer-6/
SUMMARY:Summit Chamber Mixer
DESCRIPTION:April Chamber Mixer details: \n\nTUESDAY April 15th 5-7pm \n\
 nAt Sports Buffet in Silverthorne \n\nCo-sponsored by Quality Pest Soluti
 ons \n\nSport simulator demos\, light apps\, drinks\, networking + door p
 rizes \n\n$10 members\, $20 non-members  
END:VEVENT
BEGIN:VTIMEZONE
TZID:America/Denver
X-LIC-LOCATION:America/Denver
BEGIN:DAYLIGHT
DTSTART:20250309T030000
TZOFFSETFROM:-0700
TZOFFSETTO:-0600
TZNAME:MDT
END:DAYLIGHT
END:VTIMEZONE
END:VCALENDAR