BEGIN:VCALENDAR
VERSION:2.0
PRODID:-//wp-events-plugin.com//7.2.3.1//EN
TZID:America/Denver
X-WR-TIMEZONE:America/Denver
BEGIN:VEVENT
UID:1507@krystal93.com
DTSTART;TZID=America/Denver:20250522T170000
DTEND;TZID=America/Denver:20250522T190000
DTSTAMP:20250501T234732Z
URL:https://krystal93.com/events/summit-chamber-mixer-7/
SUMMARY:Summit Chamber Mixer
DESCRIPTION:May 2025 Chamber Mixer: Mountain Careers speed networking – a
 t Frisco Inn on Galena\n\nSpeed Networking facilitated by Mountain Careers
  – take the awkwardness out of networking! Fabulous food + drink provide
 d by Frisco Inn on Galena
CATEGORIES:Summit Chamber
END:VEVENT
BEGIN:VTIMEZONE
TZID:America/Denver
X-LIC-LOCATION:America/Denver
BEGIN:DAYLIGHT
DTSTART:20250309T030000
TZOFFSETFROM:-0700
TZOFFSETTO:-0600
TZNAME:MDT
END:DAYLIGHT
END:VTIMEZONE
END:VCALENDAR