BEGIN:VCALENDAR
VERSION:2.0
PRODID:-//wp-events-plugin.com//7.2.3.1//EN
TZID:America/Denver
X-WR-TIMEZONE:America/Denver
BEGIN:VEVENT
UID:1679@krystal93.com
DTSTART;TZID=America/Denver:20250813T170000
DTEND;TZID=America/Denver:20250813T190000
DTSTAMP:20250804T202652Z
URL:https://krystal93.com/events/summit-chamber-mixer-8/
SUMMARY:Summit Chamber Mixer
DESCRIPTION: Join the Summit Chamber for the August Mixer on Wednesday\, A
 ugust 13th from 5–7 PM at The Block in Silverthorne (formerly The Pad)! 
 Enjoy light appetizers\, drinks\, and a fun trivia-themed mixer\, followed
  by The Block's weekly Trivia Night at 7 after the mixer. Live music from
  the band Local Folk will set the vibe\, with great networking\, community
  connections\, and door prizes! If you’re interested in donating a door 
 prize or volunteering\, reach out to alex@summitchamber-dot-org to get inv
 olved and gain extra exposure for your business.  
END:VEVENT
BEGIN:VTIMEZONE
TZID:America/Denver
X-LIC-LOCATION:America/Denver
BEGIN:DAYLIGHT
DTSTART:20250309T030000
TZOFFSETFROM:-0700
TZOFFSETTO:-0600
TZNAME:MDT
END:DAYLIGHT
END:VTIMEZONE
END:VCALENDAR