BEGIN:VCALENDAR
VERSION:2.0
PRODID:-//wp-events-plugin.com//7.2.3.1//EN
TZID:America/Denver
X-WR-TIMEZONE:America/Denver
BEGIN:VEVENT
UID:1143@krystal93.com
DTSTART;TZID=America/Denver:20240814T000000
DTEND;TZID=America/Denver:20240814T000000
DTSTAMP:20240818T230852Z
URL:https://krystal93.com/events/summit-choral-society-jazz-a-shared-legac
 y-concert/
SUMMARY:Summit Choral Society: Jazz: a shared legacy Concert
DESCRIPTION:Summit Choral Society present Jazz: A Shared Legacy. A journey 
 from 'Don't sit under the Apple Tree' to 'Call me irresponsible' to 'Beyon
 d the Sea" and many more of your favorites. Under the direction of Anna Ah
 rens with Lelan Eberly as Pianist.\n\nFree
CATEGORIES:Concerts
LOCATION:Silverthorne Pavilion\, 400 Blue River Parkway\, Silverthorne\, co
 \, 80424\, United States
X-APPLE-STRUCTURED-LOCATION;VALUE=URI;X-ADDRESS=400 Blue River Parkway\, Si
 lverthorne\, co\, 80424\, United States;X-APPLE-RADIUS=100;X-TITLE=Silvert
 horne Pavilion:geo:0,0
END:VEVENT
BEGIN:VTIMEZONE
TZID:America/Denver
X-LIC-LOCATION:America/Denver
BEGIN:DAYLIGHT
DTSTART:20240310T030000
TZOFFSETFROM:-0700
TZOFFSETTO:-0600
TZNAME:MDT
END:DAYLIGHT
END:VTIMEZONE
END:VCALENDAR