BEGIN:VCALENDAR
VERSION:2.0
PRODID:-//wp-events-plugin.com//7.2.3.1//EN
TZID:America/Denver
X-WR-TIMEZONE:America/Denver
BEGIN:VEVENT
UID:1445@krystal93.com
DTSTART;TZID=America/Denver:20250403T120000
DTEND;TZID=America/Denver:20250403T130000
DTSTAMP:20250331T142617Z
URL:https://krystal93.com/events/summit-country-ticket-lasso-thursday-5/
SUMMARY:Summit Country - Ticket Lasso Thursday
DESCRIPTION:Join 93.1 Summit Country for TICKET LASSO THURSDAY this week. O
 ver the noon hour we’ll give you a chance to win tickets to see Sturgill
  Simpson at Mission Ballroom on April 14th. That’s Thursday\, April 3\, 
 on 93.1 Summit Country. 
CATEGORIES:Tickets giveaway
END:VEVENT
BEGIN:VTIMEZONE
TZID:America/Denver
X-LIC-LOCATION:America/Denver
BEGIN:DAYLIGHT
DTSTART:20250309T030000
TZOFFSETFROM:-0700
TZOFFSETTO:-0600
TZNAME:MDT
END:DAYLIGHT
END:VTIMEZONE
END:VCALENDAR