BEGIN:VCALENDAR
VERSION:2.0
PRODID:-//wp-events-plugin.com//7.2.3.1//EN
TZID:America/Denver
X-WR-TIMEZONE:America/Denver
BEGIN:VEVENT
UID:1535@krystal93.com
DTSTART;TZID=America/Denver;VALUE=DATE:20250626
DTEND;TZID=America/Denver;VALUE=DATE:20250627
DTSTAMP:20250602T032255Z
URL:https://krystal93.com/events/summit-country-ticket-lasso-thursdays-4/
SUMMARY:Summit Country Ticket Lasso Thursdays
DESCRIPTION:Listen to 93.1 Summit Country every Thursday morning for your c
 hance to win great tickets! This last Thursday in June we have tickets to 
 see Lyle Lovett at Fiddler's Green on July 13. Win all month long every Th
 ursday!
CATEGORIES:Tickets giveaway
END:VEVENT
BEGIN:VTIMEZONE
TZID:America/Denver
X-LIC-LOCATION:America/Denver
BEGIN:DAYLIGHT
DTSTART:20250309T030000
TZOFFSETFROM:-0700
TZOFFSETTO:-0600
TZNAME:MDT
END:DAYLIGHT
END:VTIMEZONE
END:VCALENDAR